BEGIN:VCALENDAR
PRODID:-//hacksw/handcal//NONSGML v1.0//EN
VERSION:2.0
METHOD:PUBLISH
BEGIN:VEVENT
DTSTART:20260423T084500Z
DTEND:20260423T090000Z
LOCATION:
UID:2947620260423T084500ZTEST EVENT
DTSTAMP:20260423T120156Z
DESCRIPTION:
SUMMARY:TEST EVENT - Estate Planning Council of Erie 
PRIORITY:3
BEGIN:VALARM
TRIGGER:PT18H
ACTION:DISPLAY
DESCRIPTION:Reminder
END:VALARM
END:VEVENT
END:VCALENDAR